BEGIN:VCALENDAR
VERSION:2.0
PRODID:-//Lancy Tuttisports 2025 - ECPv6.15.20//NONSGML v1.0//EN
CALSCALE:GREGORIAN
METHOD:PUBLISH
X-WR-CALNAME:Lancy Tuttisports 2025
X-ORIGINAL-URL:https://www.tuttisports.ch
X-WR-CALDESC:évènements pour Lancy Tuttisports 2025
REFRESH-INTERVAL;VALUE=DURATION:PT1H
X-Robots-Tag:noindex
X-PUBLISHED-TTL:PT1H
BEGIN:VTIMEZONE
TZID:Europe/Zurich
BEGIN:DAYLIGHT
TZOFFSETFROM:+0100
TZOFFSETTO:+0200
TZNAME:CEST
DTSTART:20240331T010000
END:DAYLIGHT
BEGIN:STANDARD
TZOFFSETFROM:+0200
TZOFFSETTO:+0100
TZNAME:CET
DTSTART:20241027T010000
END:STANDARD
BEGIN:DAYLIGHT
TZOFFSETFROM:+0100
TZOFFSETTO:+0200
TZNAME:CEST
DTSTART:20250330T010000
END:DAYLIGHT
BEGIN:STANDARD
TZOFFSETFROM:+0200
TZOFFSETTO:+0100
TZNAME:CET
DTSTART:20251026T010000
END:STANDARD
BEGIN:DAYLIGHT
TZOFFSETFROM:+0100
TZOFFSETTO:+0200
TZNAME:CEST
DTSTART:20260329T010000
END:DAYLIGHT
BEGIN:STANDARD
TZOFFSETFROM:+0200
TZOFFSETTO:+0100
TZNAME:CET
DTSTART:20261025T010000
END:STANDARD
END:VTIMEZONE
BEGIN:VEVENT
DTSTART;TZID=Europe/Zurich:20250826T173000
DTEND;TZID=Europe/Zurich:20250826T173000
DTSTAMP:20260421T161141
CREATED:20250810T075037Z
LAST-MODIFIED:20250812T125813Z
UID:10000562-1756229400-1756229400@www.tuttisports.ch
SUMMARY:Karaté\, niveau débutant\, dès 7 ans
DESCRIPTION:
URL:https://www.tuttisports.ch/evenement/karate-debutant%c2%b7e%c2%b7s-des-7-ans/
LOCATION:Ecole & Piscine du Bachet-de-Pesay\, Chemin des Pontets 19\, Grand-Lancy
CATEGORIES:Karaté,SPORTS DE COMBAT & ARTS MARTIAUX
ATTACH;FMTTYPE=image/jpeg:https://www.tuttisports.ch/2025-16e/wp-content/uploads/karate.jpg
ORGANIZER;CN="DOJO LANCY-PALETTES - M. Mikael Antunes Farinha":MAILTO:info@dojopalettes.ch
GEO:46.1741747;6.1257108
X-APPLE-STRUCTURED-LOCATION;VALUE=URI;X-ADDRESS=Ecole & Piscine du Bachet-de-Pesay Chemin des Pontets 19 Grand-Lancy;X-APPLE-RADIUS=500;X-TITLE=Chemin des Pontets 19:geo:6.1257108,46.1741747
END:VEVENT
BEGIN:VEVENT
DTSTART;TZID=Europe/Zurich:20250826T163000
DTEND;TZID=Europe/Zurich:20250826T163000
DTSTAMP:20260421T161141
CREATED:20250810T074233Z
LAST-MODIFIED:20250812T125120Z
UID:10000554-1756225800-1756225800@www.tuttisports.ch
SUMMARY:Judo\, niveau débutant\, de 6 à 8 ans
DESCRIPTION:
URL:https://www.tuttisports.ch/evenement/judo-niveau-debutant-de-6-a-8-ans/
LOCATION:Ecole & Piscine du Bachet-de-Pesay\, Chemin des Pontets 19\, Grand-Lancy
CATEGORIES:Judo,SPORTS DE COMBAT & ARTS MARTIAUX
ATTACH;FMTTYPE=image/webp:https://www.tuttisports.ch/2025-16e/wp-content/uploads/Judo-mixte.webp
ORGANIZER;CN="DOJO LANCY-PALETTES - M. Mikael Antunes Farinha":MAILTO:info@dojopalettes.ch
GEO:46.1741747;6.1257108
X-APPLE-STRUCTURED-LOCATION;VALUE=URI;X-ADDRESS=Ecole & Piscine du Bachet-de-Pesay Chemin des Pontets 19 Grand-Lancy;X-APPLE-RADIUS=500;X-TITLE=Chemin des Pontets 19:geo:6.1257108,46.1741747
END:VEVENT
BEGIN:VEVENT
DTSTART;TZID=Europe/Zurich:20250826T114500
DTEND;TZID=Europe/Zurich:20250826T114500
DTSTAMP:20260421T161141
CREATED:20250811T141143Z
LAST-MODIFIED:20250811T141143Z
UID:10000758-1756208700-1756208700@www.tuttisports.ch
SUMMARY:Gym\, tous niveaux\, dès 15 ans
DESCRIPTION:Dojo Lancy-Palettes\, école du Bachet-de-Pesay.
URL:https://www.tuttisports.ch/evenement/gym-tous-niveaux-des-15-ans-2/
LOCATION:Ecole & Piscine du Bachet-de-Pesay\, Chemin des Pontets 19\, Grand-Lancy
CATEGORIES:Gym douce,GYMNASTIQUE
ATTACH;FMTTYPE=image/jpeg:https://www.tuttisports.ch/2025-16e/wp-content/uploads/gym-aerobic.jpg
ORGANIZER;CN="DOJO LANCY-PALETTES - M. Mikael Antunes Farinha":MAILTO:info@dojopalettes.ch
GEO:46.1741747;6.1257108
X-APPLE-STRUCTURED-LOCATION;VALUE=URI;X-ADDRESS=Ecole & Piscine du Bachet-de-Pesay Chemin des Pontets 19 Grand-Lancy;X-APPLE-RADIUS=500;X-TITLE=Chemin des Pontets 19:geo:6.1257108,46.1741747
END:VEVENT
BEGIN:VEVENT
DTSTART;TZID=Europe/Zurich:20250826T101500
DTEND;TZID=Europe/Zurich:20250826T101500
DTSTAMP:20260421T161141
CREATED:20250811T140834Z
LAST-MODIFIED:20250811T140834Z
UID:10000755-1756203300-1756203300@www.tuttisports.ch
SUMMARY:Gym douce\, tous niveaux\, dès 15 ans
DESCRIPTION:Dojo Lancy-Palettes\, école du Bachet-de-Pesay.
URL:https://www.tuttisports.ch/evenement/gym-douce-tous-niveaux-des-15-ans/
LOCATION:Ecole & Piscine du Bachet-de-Pesay\, Chemin des Pontets 19\, Grand-Lancy
CATEGORIES:Gym douce,GYMNASTIQUE
ATTACH;FMTTYPE=image/jpeg:https://www.tuttisports.ch/2025-16e/wp-content/uploads/gym_douce.jpg
ORGANIZER;CN="DOJO LANCY-PALETTES - M. Mikael Antunes Farinha":MAILTO:info@dojopalettes.ch
GEO:46.1741747;6.1257108
X-APPLE-STRUCTURED-LOCATION;VALUE=URI;X-ADDRESS=Ecole & Piscine du Bachet-de-Pesay Chemin des Pontets 19 Grand-Lancy;X-APPLE-RADIUS=500;X-TITLE=Chemin des Pontets 19:geo:6.1257108,46.1741747
END:VEVENT
BEGIN:VEVENT
DTSTART;TZID=Europe/Zurich:20250826T090000
DTEND;TZID=Europe/Zurich:20250826T090000
DTSTAMP:20260421T161141
CREATED:20250811T140449Z
LAST-MODIFIED:20250811T140522Z
UID:10000751-1756198800-1756198800@www.tuttisports.ch
SUMMARY:Gym body-sculpt\, tous niveaux\, dès 15 ans
DESCRIPTION:
URL:https://www.tuttisports.ch/evenement/gym-body-sculpt-tous-niveaux-des-15-ans/
LOCATION:Ecole & Piscine du Bachet-de-Pesay\, Chemin des Pontets 19\, Grand-Lancy
CATEGORIES:Aero et body-sculpt,GYMNASTIQUE
ATTACH;FMTTYPE=image/jpeg:https://www.tuttisports.ch/2025-16e/wp-content/uploads/gym-aero-sculpt.jpg
ORGANIZER;CN="DOJO LANCY-PALETTES - M. Mikael Antunes Farinha":MAILTO:info@dojopalettes.ch
GEO:46.1741747;6.1257108
X-APPLE-STRUCTURED-LOCATION;VALUE=URI;X-ADDRESS=Ecole & Piscine du Bachet-de-Pesay Chemin des Pontets 19 Grand-Lancy;X-APPLE-RADIUS=500;X-TITLE=Chemin des Pontets 19:geo:6.1257108,46.1741747
END:VEVENT
BEGIN:VEVENT
DTSTART;TZID=Europe/Zurich:20250825T193000
DTEND;TZID=Europe/Zurich:20250825T193000
DTSTAMP:20260421T161141
CREATED:20250810T074018Z
LAST-MODIFIED:20250810T074018Z
UID:10000552-1756150200-1756150200@www.tuttisports.ch
SUMMARY:Judo\, tous niveaux\, dès 15 ans
DESCRIPTION:
URL:https://www.tuttisports.ch/evenement/judo-tous-niveaux-des-15-ans/
LOCATION:Ecole & Piscine du Bachet-de-Pesay\, Chemin des Pontets 19\, Grand-Lancy
CATEGORIES:Judo,SPORTS DE COMBAT & ARTS MARTIAUX
ATTACH;FMTTYPE=image/webp:https://www.tuttisports.ch/2025-16e/wp-content/uploads/Judo-mixte.webp
ORGANIZER;CN="DOJO LANCY-PALETTES - M. Mikael Antunes Farinha":MAILTO:info@dojopalettes.ch
GEO:46.1741747;6.1257108
X-APPLE-STRUCTURED-LOCATION;VALUE=URI;X-ADDRESS=Ecole & Piscine du Bachet-de-Pesay Chemin des Pontets 19 Grand-Lancy;X-APPLE-RADIUS=500;X-TITLE=Chemin des Pontets 19:geo:6.1257108,46.1741747
END:VEVENT
BEGIN:VEVENT
DTSTART;TZID=Europe/Zurich:20250825T193000
DTEND;TZID=Europe/Zurich:20250825T193000
DTSTAMP:20260421T161141
CREATED:20250808T100000Z
LAST-MODIFIED:20250809T155000Z
UID:10000499-1756150200-1756150200@www.tuttisports.ch
SUMMARY:Ju-jitsu\, tous niveaux\, dès 15 ans
DESCRIPTION:Pour les cours d’essai\, préférez les pantalons aux shorts. Des kimonos ainsi que tout le matériel nécessaire sont mis à disposition.
URL:https://www.tuttisports.ch/evenement/ju-jitsu-tous-niveaux-des-15-ans-2/
LOCATION:Ecole & Piscine du Bachet-de-Pesay\, Chemin des Pontets 19\, Grand-Lancy
CATEGORIES:Ju-jitsu,Self-defense,SPORTS DE COMBAT & ARTS MARTIAUX
ATTACH;FMTTYPE=image/jpeg:https://www.tuttisports.ch/2025-16e/wp-content/uploads/ju-jitsu.jpg
ORGANIZER;CN="DOJO LANCY-PALETTES - M. Mikael Antunes Farinha":MAILTO:info@dojopalettes.ch
GEO:46.1741747;6.1257108
X-APPLE-STRUCTURED-LOCATION;VALUE=URI;X-ADDRESS=Ecole & Piscine du Bachet-de-Pesay Chemin des Pontets 19 Grand-Lancy;X-APPLE-RADIUS=500;X-TITLE=Chemin des Pontets 19:geo:6.1257108,46.1741747
END:VEVENT
BEGIN:VEVENT
DTSTART;TZID=Europe/Zurich:20250825T183000
DTEND;TZID=Europe/Zurich:20250825T183000
DTSTAMP:20260421T161141
CREATED:20250811T140137Z
LAST-MODIFIED:20250811T140137Z
UID:10000747-1756146600-1756146600@www.tuttisports.ch
SUMMARY:Gym aero-sculpt\, tous niveaux\, dès 15 ans
DESCRIPTION:
URL:https://www.tuttisports.ch/evenement/gym-aero-sculpt-tous-niveaux-des-15-ans/
LOCATION:Ecole & Piscine du Bachet-de-Pesay\, Chemin des Pontets 19\, Grand-Lancy
CATEGORIES:Aero et body-sculpt,GYMNASTIQUE,SPORTS DE COMBAT & ARTS MARTIAUX
ATTACH;FMTTYPE=image/jpeg:https://www.tuttisports.ch/2025-16e/wp-content/uploads/gym-aero-sculpt.jpg
ORGANIZER;CN="DOJO LANCY-PALETTES - M. Mikael Antunes Farinha":MAILTO:info@dojopalettes.ch
GEO:46.1741747;6.1257108
X-APPLE-STRUCTURED-LOCATION;VALUE=URI;X-ADDRESS=Ecole & Piscine du Bachet-de-Pesay Chemin des Pontets 19 Grand-Lancy;X-APPLE-RADIUS=500;X-TITLE=Chemin des Pontets 19:geo:6.1257108,46.1741747
END:VEVENT
BEGIN:VEVENT
DTSTART;TZID=Europe/Zurich:20250825T173000
DTEND;TZID=Europe/Zurich:20250825T173000
DTSTAMP:20260421T161141
CREATED:20250810T073733Z
LAST-MODIFIED:20250810T073733Z
UID:10000550-1756143000-1756143000@www.tuttisports.ch
SUMMARY:Judo\, niveau débutant\, dès 8 ans
DESCRIPTION:
URL:https://www.tuttisports.ch/evenement/judo-niveau-debutant-des-8-ans/
LOCATION:Ecole & Piscine du Bachet-de-Pesay\, Chemin des Pontets 19\, Grand-Lancy
CATEGORIES:Judo,SPORTS DE COMBAT & ARTS MARTIAUX
ATTACH;FMTTYPE=image/webp:https://www.tuttisports.ch/2025-16e/wp-content/uploads/Judo-mixte.webp
ORGANIZER;CN="DOJO LANCY-PALETTES - M. Mikael Antunes Farinha":MAILTO:info@dojopalettes.ch
GEO:46.1741747;6.1257108
X-APPLE-STRUCTURED-LOCATION;VALUE=URI;X-ADDRESS=Ecole & Piscine du Bachet-de-Pesay Chemin des Pontets 19 Grand-Lancy;X-APPLE-RADIUS=500;X-TITLE=Chemin des Pontets 19:geo:6.1257108,46.1741747
END:VEVENT
BEGIN:VEVENT
DTSTART;TZID=Europe/Zurich:20250825T121500
DTEND;TZID=Europe/Zurich:20250825T121500
DTSTAMP:20260421T161141
CREATED:20250808T100000Z
LAST-MODIFIED:20250809T155000Z
UID:10000498-1756124100-1756124100@www.tuttisports.ch
SUMMARY:Ju-jitsu\, tous niveaux\, dès 15 ans
DESCRIPTION:Pour les cours d’essai\, préférez les pantalons aux shorts. Des kimonos ainsi que tout le matériel nécessaire sont mis à disposition.
URL:https://www.tuttisports.ch/evenement/ju-jitsu-tous-niveaux-des-15-ans-6/
LOCATION:Ecole & Piscine du Bachet-de-Pesay\, Chemin des Pontets 19\, Grand-Lancy
CATEGORIES:Ju-jitsu,Self-defense,SPORTS DE COMBAT & ARTS MARTIAUX
ATTACH;FMTTYPE=image/jpeg:https://www.tuttisports.ch/2025-16e/wp-content/uploads/ju-jitsu.jpg
ORGANIZER;CN="DOJO LANCY-PALETTES - M. Mikael Antunes Farinha":MAILTO:info@dojopalettes.ch
GEO:46.1741747;6.1257108
X-APPLE-STRUCTURED-LOCATION;VALUE=URI;X-ADDRESS=Ecole & Piscine du Bachet-de-Pesay Chemin des Pontets 19 Grand-Lancy;X-APPLE-RADIUS=500;X-TITLE=Chemin des Pontets 19:geo:6.1257108,46.1741747
END:VEVENT
END:VCALENDAR