BEGIN:VCALENDAR
VERSION:2.0
PRODID:-//Lancy Tuttisports 2025 - ECPv6.14.2//NONSGML v1.0//EN
CALSCALE:GREGORIAN
METHOD:PUBLISH
X-WR-CALNAME:Lancy Tuttisports 2025
X-ORIGINAL-URL:https://www.tuttisports.ch
X-WR-CALDESC:évènements pour Lancy Tuttisports 2025
REFRESH-INTERVAL;VALUE=DURATION:PT1H
X-Robots-Tag:noindex
X-PUBLISHED-TTL:PT1H
BEGIN:VTIMEZONE
TZID:Europe/Zurich
BEGIN:DAYLIGHT
TZOFFSETFROM:+0100
TZOFFSETTO:+0200
TZNAME:CEST
DTSTART:20250330T010000
END:DAYLIGHT
BEGIN:STANDARD
TZOFFSETFROM:+0200
TZOFFSETTO:+0100
TZNAME:CET
DTSTART:20251026T010000
END:STANDARD
END:VTIMEZONE
BEGIN:VEVENT
DTSTART;TZID=Europe/Zurich:20250906T153000
DTEND;TZID=Europe/Zurich:20250906T153000
DTSTAMP:20260419T221455
CREATED:20250811T155035Z
LAST-MODIFIED:20250811T155035Z
UID:10000785-1757172600-1757172600@www.tuttisports.ch
SUMMARY:Cheerleading\, de 15 à 20 ans
DESCRIPTION:Portés en groupe\, gymnastique\, sauts\, danse
URL:https://www.tuttisports.ch/evenement/cheerleading-de-15-a-20-ans-2/
LOCATION:Ecole & Piscine de la Caroline\, Rue des Bossons 74-76\, Petit-Lancy\, 1213
CATEGORIES:AUTRES SPORTS,Cheerleading,DANSE,GYMNASTIQUE
ATTACH;FMTTYPE=image/webp:https://www.tuttisports.ch/2025-16e/wp-content/uploads/Cheerleading.webp
ORGANIZER;CN="GENEVA LIGHTS CHEERLEADING CLUB - Mme Laetitia Panchaud":MAILTO:cheersport.gva@gmail.com
GEO:46.1880129;6.1088995
X-APPLE-STRUCTURED-LOCATION;VALUE=URI;X-ADDRESS=Ecole & Piscine de la Caroline Rue des Bossons 74-76 Petit-Lancy 1213;X-APPLE-RADIUS=500;X-TITLE=Rue des Bossons 74-76:geo:6.1088995,46.1880129
END:VEVENT
BEGIN:VEVENT
DTSTART;TZID=Europe/Zurich:20250906T133000
DTEND;TZID=Europe/Zurich:20250906T133000
DTSTAMP:20260419T221455
CREATED:20250811T152658Z
LAST-MODIFIED:20250811T154613Z
UID:10000783-1757165400-1757165400@www.tuttisports.ch
SUMMARY:Cheerleading\, de 8 à 12 ans
DESCRIPTION:Portés en groupe\, gymnastique\, sauts\, danse
URL:https://www.tuttisports.ch/evenement/cheerleading-de-8-a-12-ans-4/
LOCATION:Ecole & Piscine de la Caroline\, Rue des Bossons 74-76\, Petit-Lancy\, 1213
CATEGORIES:AUTRES SPORTS,Cheerleading,DANSE,GYMNASTIQUE
ATTACH;FMTTYPE=image/webp:https://www.tuttisports.ch/2025-16e/wp-content/uploads/Cheerleading.webp
ORGANIZER;CN="GENEVA LIGHTS CHEERLEADING CLUB - Mme Laetitia Panchaud":MAILTO:cheersport.gva@gmail.com
GEO:46.1880129;6.1088995
X-APPLE-STRUCTURED-LOCATION;VALUE=URI;X-ADDRESS=Ecole & Piscine de la Caroline Rue des Bossons 74-76 Petit-Lancy 1213;X-APPLE-RADIUS=500;X-TITLE=Rue des Bossons 74-76:geo:6.1088995,46.1880129
END:VEVENT
BEGIN:VEVENT
DTSTART;TZID=Europe/Zurich:20250903T133000
DTEND;TZID=Europe/Zurich:20250903T133000
DTSTAMP:20260419T221455
CREATED:20250811T152500Z
LAST-MODIFIED:20250811T154628Z
UID:10000781-1756906200-1756906200@www.tuttisports.ch
SUMMARY:Cheerleading\, de 8 à 12 ans
DESCRIPTION:Portés en groupe\, gymnastique\, sauts\, danse
URL:https://www.tuttisports.ch/evenement/cheerleading-de-8-a-12-ans-2/
LOCATION:Ecole du Plateau\, Avenue du Plateau 40\, Petit-Lancy\, 1213
CATEGORIES:AUTRES SPORTS,Cheerleading,DANSE,GYMNASTIQUE
ATTACH;FMTTYPE=image/webp:https://www.tuttisports.ch/2025-16e/wp-content/uploads/Cheerleading.webp
ORGANIZER;CN="GENEVA LIGHTS CHEERLEADING CLUB - Mme Laetitia Panchaud":MAILTO:cheersport.gva@gmail.com
GEO:46.1963178;6.1177983
X-APPLE-STRUCTURED-LOCATION;VALUE=URI;X-ADDRESS=Ecole du Plateau Avenue du Plateau 40 Petit-Lancy 1213;X-APPLE-RADIUS=500;X-TITLE=Avenue du Plateau 40:geo:6.1177983,46.1963178
END:VEVENT
BEGIN:VEVENT
DTSTART;TZID=Europe/Zurich:20250830T153000
DTEND;TZID=Europe/Zurich:20250830T153000
DTSTAMP:20260419T221455
CREATED:20250811T155010Z
LAST-MODIFIED:20250811T155010Z
UID:10000784-1756567800-1756567800@www.tuttisports.ch
SUMMARY:Cheerleading\, de 15 à 20 ans
DESCRIPTION:Portés en groupe\, gymnastique\, sauts\, danse
URL:https://www.tuttisports.ch/evenement/cheerleading-de-15-a-20-ans/
LOCATION:Ecole & Piscine de la Caroline\, Rue des Bossons 74-76\, Petit-Lancy\, 1213
CATEGORIES:AUTRES SPORTS,Cheerleading,DANSE,GYMNASTIQUE
ATTACH;FMTTYPE=image/webp:https://www.tuttisports.ch/2025-16e/wp-content/uploads/Cheerleading.webp
ORGANIZER;CN="GENEVA LIGHTS CHEERLEADING CLUB - Mme Laetitia Panchaud":MAILTO:cheersport.gva@gmail.com
GEO:46.1880129;6.1088995
X-APPLE-STRUCTURED-LOCATION;VALUE=URI;X-ADDRESS=Ecole & Piscine de la Caroline Rue des Bossons 74-76 Petit-Lancy 1213;X-APPLE-RADIUS=500;X-TITLE=Rue des Bossons 74-76:geo:6.1088995,46.1880129
END:VEVENT
BEGIN:VEVENT
DTSTART;TZID=Europe/Zurich:20250830T133000
DTEND;TZID=Europe/Zurich:20250830T133000
DTSTAMP:20260419T221455
CREATED:20250811T152637Z
LAST-MODIFIED:20250811T155115Z
UID:10000782-1756560600-1756560600@www.tuttisports.ch
SUMMARY:Cheerleading\, de 8 à 12 ans
DESCRIPTION:Portés en groupe\, gymnastique\, sauts\, danse
URL:https://www.tuttisports.ch/evenement/cheerleading-de-8-a-12-ans-3/
LOCATION:Ecole & Piscine de la Caroline\, Rue des Bossons 74-76\, Petit-Lancy\, 1213
CATEGORIES:AUTRES SPORTS,Cheerleading,DANSE,GYMNASTIQUE
ATTACH;FMTTYPE=image/webp:https://www.tuttisports.ch/2025-16e/wp-content/uploads/Cheerleading.webp
ORGANIZER;CN="GENEVA LIGHTS CHEERLEADING CLUB - Mme Laetitia Panchaud":MAILTO:cheersport.gva@gmail.com
GEO:46.1880129;6.1088995
X-APPLE-STRUCTURED-LOCATION;VALUE=URI;X-ADDRESS=Ecole & Piscine de la Caroline Rue des Bossons 74-76 Petit-Lancy 1213;X-APPLE-RADIUS=500;X-TITLE=Rue des Bossons 74-76:geo:6.1088995,46.1880129
END:VEVENT
BEGIN:VEVENT
DTSTART;TZID=Europe/Zurich:20250827T133000
DTEND;TZID=Europe/Zurich:20250827T133000
DTSTAMP:20260419T221455
CREATED:20250811T152441Z
LAST-MODIFIED:20250811T155102Z
UID:10000780-1756301400-1756301400@www.tuttisports.ch
SUMMARY:Cheerleading\, de 8 à 12 ans
DESCRIPTION:Portés en groupe\, gymnastique\, sauts\, danse
URL:https://www.tuttisports.ch/evenement/cheerleading-de-8-a-12-ans/
LOCATION:Ecole du Plateau\, Avenue du Plateau 40\, Petit-Lancy\, 1213
CATEGORIES:AUTRES SPORTS,Cheerleading,DANSE,GYMNASTIQUE
ATTACH;FMTTYPE=image/webp:https://www.tuttisports.ch/2025-16e/wp-content/uploads/Cheerleading.webp
ORGANIZER;CN="GENEVA LIGHTS CHEERLEADING CLUB - Mme Laetitia Panchaud":MAILTO:cheersport.gva@gmail.com
GEO:46.1963178;6.1177983
X-APPLE-STRUCTURED-LOCATION;VALUE=URI;X-ADDRESS=Ecole du Plateau Avenue du Plateau 40 Petit-Lancy 1213;X-APPLE-RADIUS=500;X-TITLE=Avenue du Plateau 40:geo:6.1177983,46.1963178
END:VEVENT
END:VCALENDAR